BEGIN:VCALENDAR
VERSION:2.0
PRODID:icalendar-ruby
CALSCALE:GREGORIAN
METHOD:PUBLISH
BEGIN:VTIMEZONE
TZID:Australia/Brisbane
BEGIN:STANDARD
DTSTART:19920301T020000
TZOFFSETFROM:+1100
TZOFFSETTO:+1000
TZNAME:AEST
END:STANDARD
END:VTIMEZONE
BEGIN:VEVENT
DTSTAMP:20260420T062836Z
UID:inspection_3003512
DTSTART;TZID=Australia/Brisbane:20260424T120000
DTEND;TZID=Australia/Brisbane:20260424T121000
CLASS:PUBLIC
CREATED:20260419T153901
DESCRIPTION: 
LAST-MODIFIED:20260419T153901
LOCATION:21 Pauline Ave\, ELLEN GROVE QLD 4078\, Australia
SUMMARY:21 Pauline Ave\,  Inspection
URL;VALUE=URI:https://wilsonpropertygroup.com.au/
END:VEVENT
END:VCALENDAR
