BEGIN:VCALENDAR
VERSION:2.0
PRODID:icalendar-ruby
CALSCALE:GREGORIAN
METHOD:PUBLISH
BEGIN:VTIMEZONE
TZID:Australia/Brisbane
BEGIN:STANDARD
DTSTART:19920301T020000
TZOFFSETFROM:+1100
TZOFFSETTO:+1000
TZNAME:AEST
END:STANDARD
END:VTIMEZONE
BEGIN:VEVENT
DTSTAMP:20260422T025957Z
UID:inspection_3008451
DTSTART;TZID=Australia/Brisbane:20260424T144500
DTEND;TZID=Australia/Brisbane:20260424T145500
CLASS:PUBLIC
CREATED:20260422T083846
DESCRIPTION: 
LAST-MODIFIED:20260422T083846
LOCATION:4/33 Grimstone Street\, KEPERRA QLD 4054\, Australia
SUMMARY:4/33 Grimstone Street\,  Inspection
URL;VALUE=URI:https://wilsonpropertygroup.com.au/
END:VEVENT
END:VCALENDAR
