BEGIN:VCALENDAR
VERSION:2.0
PRODID:icalendar-ruby
CALSCALE:GREGORIAN
METHOD:PUBLISH
BEGIN:VTIMEZONE
TZID:Australia/Brisbane
BEGIN:STANDARD
DTSTART:19920301T020000
TZOFFSETFROM:+1100
TZOFFSETTO:+1000
TZNAME:AEST
END:STANDARD
END:VTIMEZONE
BEGIN:VEVENT
DTSTAMP:20260422T235956Z
UID:inspection_3008621
DTSTART;TZID=Australia/Brisbane:20260425T103000
DTEND;TZID=Australia/Brisbane:20260425T104000
CLASS:PUBLIC
CREATED:20260422T095358
DESCRIPTION: 
LAST-MODIFIED:20260422T095358
LOCATION:32 Old Northern Rd\, EVERTON PARK QLD 4053\, Australia
SUMMARY:32 Old Northern Rd\,  Inspection
URL;VALUE=URI:https://wilsonpropertygroup.com.au/
END:VEVENT
END:VCALENDAR
