BEGIN:VCALENDAR
VERSION:2.0
PRODID:icalendar-ruby
CALSCALE:GREGORIAN
METHOD:PUBLISH
BEGIN:VTIMEZONE
TZID:Australia/Brisbane
BEGIN:STANDARD
DTSTART:19920301T020000
TZOFFSETFROM:+1100
TZOFFSETTO:+1000
TZNAME:AEST
END:STANDARD
END:VTIMEZONE
BEGIN:VEVENT
DTSTAMP:20260423T000653Z
UID:inspection_3008623
DTSTART;TZID=Australia/Brisbane:20260425T090000
DTEND;TZID=Australia/Brisbane:20260425T091000
CLASS:PUBLIC
CREATED:20260422T095400
DESCRIPTION: 
LAST-MODIFIED:20260422T095400
LOCATION:5/111 Fihelly Street\, KEPERRA QLD 4054\, Australia
SUMMARY:5/111 Fihelly Street\,  Inspection
URL;VALUE=URI:https://wilsonpropertygroup.com.au/
END:VEVENT
END:VCALENDAR
