BEGIN:VCALENDAR
VERSION:2.0
PRODID:icalendar-ruby
CALSCALE:GREGORIAN
METHOD:PUBLISH
BEGIN:VTIMEZONE
TZID:Australia/Brisbane
BEGIN:STANDARD
DTSTART:19920301T020000
TZOFFSETFROM:+1100
TZOFFSETTO:+1000
TZNAME:AEST
END:STANDARD
END:VTIMEZONE
BEGIN:VEVENT
DTSTAMP:20260423T000535Z
UID:inspection_3008624
DTSTART;TZID=Australia/Brisbane:20260425T104500
DTEND;TZID=Australia/Brisbane:20260425T105500
CLASS:PUBLIC
CREATED:20260422T095400
DESCRIPTION: 
LAST-MODIFIED:20260422T095400
LOCATION:34 Old Northern Rd\, EVERTON PARK QLD 4053\, Australia
SUMMARY:34 Old Northern Rd\,  Inspection
URL;VALUE=URI:https://wilsonpropertygroup.com.au/
END:VEVENT
END:VCALENDAR
