BEGIN:VCALENDAR
VERSION:2.0
PRODID:icalendar-ruby
CALSCALE:GREGORIAN
METHOD:PUBLISH
BEGIN:VTIMEZONE
TZID:Australia/Brisbane
BEGIN:STANDARD
DTSTART:19920301T020000
TZOFFSETFROM:+1100
TZOFFSETTO:+1000
TZNAME:AEST
END:STANDARD
END:VTIMEZONE
BEGIN:VEVENT
DTSTAMP:20260423T000419Z
UID:inspection_3010042
DTSTART;TZID=Australia/Brisbane:20260425T120000
DTEND;TZID=Australia/Brisbane:20260425T121000
CLASS:PUBLIC
CREATED:20260422T165342
DESCRIPTION: 
LAST-MODIFIED:20260422T165342
LOCATION:5/10A Coral Street\, BEENLEIGH QLD 4207\, Australia
SUMMARY:5/10A Coral Street\,  Inspection
URL;VALUE=URI:https://wilsonpropertygroup.com.au/
END:VEVENT
END:VCALENDAR
